BEGIN:VCALENDAR
VERSION:2.0
PRODID:-//147.100.242.14//NONSGML kigkonsult.se iCalcreator 2.41.92//
CALSCALE:GREGORIAN
UID:31323564-3062-4431-a635-303664383532
X-WR-TIMEZONE:Europe/Paris
BEGIN:VTIMEZONE
TZID:Europe/Paris
TZUNTIL:20250330T010000Z
BEGIN:STANDARD
TZNAME:CET
DTSTART:20221030T030000
TZOFFSETFROM:+0200
TZOFFSETTO:+0100
RDATE:20231029T030000
RDATE:20241027T030000
END:STANDARD
BEGIN:DAYLIGHT
TZNAME:CEST
DTSTART:20230326T020000
TZOFFSETFROM:+0100
TZOFFSETTO:+0200
RDATE:20240331T020000
END:DAYLIGHT
END:VTIMEZONE
BEGIN:VEVENT
UID:31373331-6134-4038-b535-653139363762
DTSTAMP:20260421T084311Z
DTSTART:20230626T100000Z
DTEND:20230629T100000Z
LOCATION:Tours\, France
SUMMARY:27th annual meeting  of the society for behavioral neuroendocrinolo
 gy
URL:https://sbn2023.colloque.inrae.fr
END:VEVENT
END:VCALENDAR
